BEGIN:VCALENDAR
VERSION:2.0
PRODID:-//wp-events-plugin.com//7.2.3.1//EN
TZID:America/Chicago
X-WR-TIMEZONE:America/Chicago
BEGIN:VEVENT
UID:2125@christlutheraneureka.org
DTSTART;TZID=America/Chicago:20250907T093000
DTEND;TZID=America/Chicago:20250907T093000
DTSTAMP:20250902T165149Z
URL:https://christlutheraneureka.org/events/1-worship-service-at-founders-
 park/
SUMMARY:1 Worship Service at Founders Park
DESCRIPTION:
CATEGORIES:Worship
END:VEVENT
BEGIN:VTIMEZONE
TZID:America/Chicago
X-LIC-LOCATION:America/Chicago
BEGIN:DAYLIGHT
DTSTART:20250309T030000
TZOFFSETFROM:-0600
TZOFFSETTO:-0500
TZNAME:CDT
END:DAYLIGHT
END:VTIMEZONE
END:VCALENDAR