BEGIN:VCALENDAR
VERSION:2.0
PRODID:-//wp-events-plugin.com//7.2.3.1//EN
TZID:America/Chicago
X-WR-TIMEZONE:America/Chicago
BEGIN:VEVENT
UID:2101@christlutheraneureka.org
DTSTART;TZID=America/Chicago:20250704T000000
DTEND;TZID=America/Chicago:20250704T000000
DTSTAMP:20250707T142818Z
URL:https://christlutheraneureka.org/events/4th-of-july/
SUMMARY:4th of July
DESCRIPTION:
CATEGORIES:Holiday
END:VEVENT
BEGIN:VTIMEZONE
TZID:America/Chicago
X-LIC-LOCATION:America/Chicago
BEGIN:DAYLIGHT
DTSTART:20250309T030000
TZOFFSETFROM:-0600
TZOFFSETTO:-0500
TZNAME:CDT
END:DAYLIGHT
END:VTIMEZONE
END:VCALENDAR