BEGIN:VCALENDAR
VERSION:2.0
PRODID:-//wp-events-plugin.com//7.2.3.1//EN
TZID:America/Chicago
X-WR-TIMEZONE:America/Chicago
BEGIN:VEVENT
UID:2033@christlutheraneureka.org
DTSTART;TZID=America/Chicago:20250126T120000
DTEND;TZID=America/Chicago:20250126T120000
DTSTAMP:20250103T202851Z
URL:https://christlutheraneureka.org/events/annual-meeting-potluck/
SUMMARY:Annual Meeting & Potluck
DESCRIPTION:Please plan to attend this important meeting for the life and n
 eeds of your church. The yearly committee reports will be read\, elect com
 mittee volunteers\, and transact other business of these churchses.
CATEGORIES:Special
END:VEVENT
BEGIN:VTIMEZONE
TZID:America/Chicago
X-LIC-LOCATION:America/Chicago
BEGIN:STANDARD
DTSTART:20241103T010000
TZOFFSETFROM:-0500
TZOFFSETTO:-0600
TZNAME:CST
END:STANDARD
END:VTIMEZONE
END:VCALENDAR