BEGIN:VCALENDAR
VERSION:2.0
PRODID:-//wp-events-plugin.com//7.2.3.1//EN
TZID:America/Chicago
X-WR-TIMEZONE:America/Chicago
BEGIN:VEVENT
UID:2203@christlutheraneureka.org
DTSTART;TZID=America/Chicago:20260415T154500
DTEND;TZID=America/Chicago:20260415T170000
DTSTAMP:20260408T153959Z
URL:https://christlutheraneureka.org/events/christ-kids-9/
SUMMARY:Christ Kids
DESCRIPTION:
CATEGORIES:Special
LOCATION:CLC - Basement\, 315 N Elm\, Eureka\, KS\, 67045\, United States
X-APPLE-STRUCTURED-LOCATION;VALUE=URI;X-ADDRESS=315 N Elm\, Eureka\, KS\, 6
 7045\, United States;X-APPLE-RADIUS=100;X-TITLE=CLC - Basement:geo:0,0
END:VEVENT
BEGIN:VTIMEZONE
TZID:America/Chicago
X-LIC-LOCATION:America/Chicago
BEGIN:DAYLIGHT
DTSTART:20260308T030000
TZOFFSETFROM:-0600
TZOFFSETTO:-0500
TZNAME:CDT
END:DAYLIGHT
END:VTIMEZONE
END:VCALENDAR