BEGIN:VCALENDAR
VERSION:2.0
PRODID:-//wp-events-plugin.com//7.2.3.1//EN
TZID:America/Chicago
X-WR-TIMEZONE:America/Chicago
BEGIN:VEVENT
UID:2030@christlutheraneureka.org
DTSTART;TZID=America/Chicago:20250115T153000
DTEND;TZID=America/Chicago:20250115T171500
DTSTAMP:20250103T202643Z
URL:https://christlutheraneureka.org/events/christ-kids-after-school-progr
 am-2/
SUMMARY:Christ Kids After-School Program
DESCRIPTION:
CATEGORIES:Community
END:VEVENT
BEGIN:VTIMEZONE
TZID:America/Chicago
X-LIC-LOCATION:America/Chicago
BEGIN:STANDARD
DTSTART:20241103T010000
TZOFFSETFROM:-0500
TZOFFSETTO:-0600
TZNAME:CST
END:STANDARD
END:VTIMEZONE
END:VCALENDAR