BEGIN:VCALENDAR
VERSION:2.0
PRODID:-//wp-events-plugin.com//7.2.3.1//EN
TZID:America/Chicago
X-WR-TIMEZONE:America/Chicago
BEGIN:VEVENT
UID:2031@christlutheraneureka.org
DTSTART;TZID=America/Chicago:20250116T120000
DTEND;TZID=America/Chicago:20250116T120000
DTSTAMP:20250103T202711Z
URL:https://christlutheraneureka.org/events/clc-council-meeting-7/
SUMMARY:CLC Council Meeting
DESCRIPTION:
CATEGORIES:Meetings
LOCATION:CLC - Bell Tower Room\, 315 N Elm\, Eureka\, KS\, 67045\, United S
 tates
X-APPLE-STRUCTURED-LOCATION;VALUE=URI;X-ADDRESS=315 N Elm\, Eureka\, KS\, 6
 7045\, United States;X-APPLE-RADIUS=100;X-TITLE=CLC - Bell Tower Room:geo:
 0,0
END:VEVENT
BEGIN:VTIMEZONE
TZID:America/Chicago
X-LIC-LOCATION:America/Chicago
BEGIN:STANDARD
DTSTART:20241103T010000
TZOFFSETFROM:-0500
TZOFFSETTO:-0600
TZNAME:CST
END:STANDARD
END:VTIMEZONE
END:VCALENDAR