BEGIN:VCALENDAR
VERSION:2.0
PRODID:-//wp-events-plugin.com//7.2.3.1//EN
TZID:America/Chicago
X-WR-TIMEZONE:America/Chicago
BEGIN:VEVENT
UID:2084@christlutheraneureka.org
DTSTART;TZID=America/Chicago:20250522T180000
DTEND;TZID=America/Chicago:20250522T180000
DTSTAMP:20250430T215551Z
URL:https://christlutheraneureka.org/events/community-meal/
SUMMARY:Community Meal
DESCRIPTION:
CATEGORIES:Community
LOCATION:Memorial Hall\, 309 N Oak St\, Eureka\, KS\, 67045\, United States
X-APPLE-STRUCTURED-LOCATION;VALUE=URI;X-ADDRESS=309 N Oak St\, Eureka\, KS\
 , 67045\, United States;X-APPLE-RADIUS=100;X-TITLE=Memorial Hall:geo:0,0
END:VEVENT
BEGIN:VTIMEZONE
TZID:America/Chicago
X-LIC-LOCATION:America/Chicago
BEGIN:DAYLIGHT
DTSTART:20250309T030000
TZOFFSETFROM:-0600
TZOFFSETTO:-0500
TZNAME:CDT
END:DAYLIGHT
END:VTIMEZONE
END:VCALENDAR