BEGIN:VCALENDAR
VERSION:2.0
PRODID:-//wp-events-plugin.com//7.2.3.1//EN
TZID:America/Chicago
X-WR-TIMEZONE:America/Chicago
BEGIN:VEVENT
UID:2176@christlutheraneureka.org
DTSTART;TZID=America/Chicago:20260217T170000
DTEND;TZID=America/Chicago:20260217T190000
DTSTAMP:20260204T210856Z
URL:https://christlutheraneureka.org/events/fat-tuesday-pancake-meal/
SUMMARY:Fat Tuesday Pancake Meal
DESCRIPTION:
CATEGORIES:Special
END:VEVENT
BEGIN:VTIMEZONE
TZID:America/Chicago
X-LIC-LOCATION:America/Chicago
BEGIN:STANDARD
DTSTART:20251102T010000
TZOFFSETFROM:-0500
TZOFFSETTO:-0600
TZNAME:CST
END:STANDARD
END:VTIMEZONE
END:VCALENDAR