BEGIN:VCALENDAR
VERSION:2.0
PRODID:-//wp-events-plugin.com//7.2.3.1//EN
TZID:America/Chicago
X-WR-TIMEZONE:America/Chicago
BEGIN:VEVENT
UID:2035@christlutheraneureka.org
DTSTART;TZID=America/Chicago:20250203T170000
DTEND;TZID=America/Chicago:20250203T170000
DTSTAMP:20250201T043225Z
URL:https://christlutheraneureka.org/events/grief-group-5/
SUMMARY:Grief Group
DESCRIPTION:
CATEGORIES:Special
LOCATION:United Methodist Church\, 521 N Main\, Eureka\, KS\, 67045\, Unite
 d States
X-APPLE-STRUCTURED-LOCATION;VALUE=URI;X-ADDRESS=521 N Main\, Eureka\, KS\, 
 67045\, United States;X-APPLE-RADIUS=100;X-TITLE=United Methodist Church:g
 eo:0,0
END:VEVENT
BEGIN:VTIMEZONE
TZID:America/Chicago
X-LIC-LOCATION:America/Chicago
BEGIN:STANDARD
DTSTART:20241103T010000
TZOFFSETFROM:-0500
TZOFFSETTO:-0600
TZNAME:CST
END:STANDARD
END:VTIMEZONE
END:VCALENDAR