BEGIN:VCALENDAR
VERSION:2.0
PRODID:-//wp-events-plugin.com//7.2.3.1//EN
TZID:America/Chicago
X-WR-TIMEZONE:America/Chicago
BEGIN:VEVENT
UID:2075@christlutheraneureka.org
DTSTART;TZID=America/Chicago:20250505T170000
DTEND;TZID=America/Chicago:20250505T170000
DTSTAMP:20250430T215137Z
URL:https://christlutheraneureka.org/events/grief-group-6/
SUMMARY:Grief Group
DESCRIPTION:
CATEGORIES:Special
LOCATION:United Methodist Church\, 521 N Main\, Eureka\, KS\, 67045\, Unite
 d States
X-APPLE-STRUCTURED-LOCATION;VALUE=URI;X-ADDRESS=521 N Main\, Eureka\, KS\, 
 67045\, United States;X-APPLE-RADIUS=100;X-TITLE=United Methodist Church:g
 eo:0,0
END:VEVENT
BEGIN:VTIMEZONE
TZID:America/Chicago
X-LIC-LOCATION:America/Chicago
BEGIN:DAYLIGHT
DTSTART:20250309T030000
TZOFFSETFROM:-0600
TZOFFSETTO:-0500
TZNAME:CDT
END:DAYLIGHT
END:VTIMEZONE
END:VCALENDAR