BEGIN:VCALENDAR
VERSION:2.0
PRODID:-//wp-events-plugin.com//7.2.3.1//EN
TZID:America/Chicago
X-WR-TIMEZONE:America/Chicago
BEGIN:VEVENT
UID:2040@christlutheraneureka.org
DTSTART;TZID=America/Chicago:20250214T000000
DTEND;TZID=America/Chicago:20250214T000000
DTSTAMP:20250201T043625Z
URL:https://christlutheraneureka.org/events/happy-valentines-day/
SUMMARY:Happy Valentine's Day!
DESCRIPTION:
CATEGORIES:Holiday
END:VEVENT
BEGIN:VTIMEZONE
TZID:America/Chicago
X-LIC-LOCATION:America/Chicago
BEGIN:STANDARD
DTSTART:20241103T010000
TZOFFSETFROM:-0500
TZOFFSETTO:-0600
TZNAME:CST
END:STANDARD
END:VTIMEZONE
END:VCALENDAR