BEGIN:VCALENDAR
VERSION:2.0
PRODID:-//wp-events-plugin.com//7.2.3.1//EN
TZID:America/Chicago
X-WR-TIMEZONE:America/Chicago
BEGIN:VEVENT
UID:2158@christlutheraneureka.org
DTSTART;TZID=America/Chicago:20251221T000000
DTEND;TZID=America/Chicago:20251221T000000
DTSTAMP:20251204T164850Z
URL:https://christlutheraneureka.org/events/harmony-sunflowers-4-h-christm
 as-party-2/
SUMMARY:Harmony Sunflowers 4-H Christmas Party
DESCRIPTION:
CATEGORIES:Meetings
LOCATION:CLC - Basement\, 315 N Elm\, Eureka\, KS\, 67045\, United States
X-APPLE-STRUCTURED-LOCATION;VALUE=URI;X-ADDRESS=315 N Elm\, Eureka\, KS\, 6
 7045\, United States;X-APPLE-RADIUS=100;X-TITLE=CLC - Basement:geo:0,0
END:VEVENT
BEGIN:VTIMEZONE
TZID:America/Chicago
X-LIC-LOCATION:America/Chicago
BEGIN:STANDARD
DTSTART:20251102T010000
TZOFFSETFROM:-0500
TZOFFSETTO:-0600
TZNAME:CST
END:STANDARD
END:VTIMEZONE
END:VCALENDAR