BEGIN:VCALENDAR
VERSION:2.0
PRODID:-//wp-events-plugin.com//7.2.3.1//EN
TZID:America/Chicago
X-WR-TIMEZONE:America/Chicago
BEGIN:VEVENT
UID:2138@christlutheraneureka.org
DTSTART;TZID=America/Chicago:20251102T110000
DTEND;TZID=America/Chicago:20251102T110000
DTSTAMP:20251027T152116Z
URL:https://christlutheraneureka.org/events/heritage-day/
SUMMARY:Heritage Day
DESCRIPTION:
CATEGORIES:Special
LOCATION:Holverson School House\, 2010 H Road\, Eureka\, KS\, United States
X-APPLE-STRUCTURED-LOCATION;VALUE=URI;X-ADDRESS=2010 H Road\, Eureka\, KS\,
  United States;X-APPLE-RADIUS=100;X-TITLE=Holverson School House:geo:0,0
END:VEVENT
BEGIN:VTIMEZONE
TZID:America/Chicago
X-LIC-LOCATION:America/Chicago
BEGIN:STANDARD
DTSTART:20251102T010000
TZOFFSETFROM:-0500
TZOFFSETTO:-0600
TZNAME:CST
END:STANDARD
END:VTIMEZONE
END:VCALENDAR