BEGIN:VCALENDAR
VERSION:2.0
PRODID:-//wp-events-plugin.com//7.2.3.1//EN
TZID:America/Chicago
X-WR-TIMEZONE:America/Chicago
BEGIN:VEVENT
UID:2045@christlutheraneureka.org
DTSTART;TZID=America/Chicago:20250220T130000
DTEND;TZID=America/Chicago:20250220T130000
DTSTAMP:20250201T043924Z
URL:https://christlutheraneureka.org/events/ladies-quilting-7/
SUMMARY:Ladies Quilting
DESCRIPTION:
CATEGORIES:Special
LOCATION:CLC - Basement\, 315 N Elm\, Eureka\, KS\, 67045\, United States
X-APPLE-STRUCTURED-LOCATION;VALUE=URI;X-ADDRESS=315 N Elm\, Eureka\, KS\, 6
 7045\, United States;X-APPLE-RADIUS=100;X-TITLE=CLC - Basement:geo:0,0
END:VEVENT
BEGIN:VTIMEZONE
TZID:America/Chicago
X-LIC-LOCATION:America/Chicago
BEGIN:STANDARD
DTSTART:20241103T010000
TZOFFSETFROM:-0500
TZOFFSETTO:-0600
TZNAME:CST
END:STANDARD
END:VTIMEZONE
END:VCALENDAR