BEGIN:VCALENDAR
VERSION:2.0
PRODID:-//wp-events-plugin.com//7.2.3.1//EN
TZID:America/Chicago
X-WR-TIMEZONE:America/Chicago
BEGIN:VEVENT
UID:2026@christlutheraneureka.org
DTSTART;TZID=America/Chicago:20250106T120000
DTEND;TZID=America/Chicago:20250106T140000
DTSTAMP:20250103T202414Z
URL:https://christlutheraneureka.org/events/ministerial-alliance-food-bank
 -25/
SUMMARY:Ministerial Alliance Food Bank
DESCRIPTION:
CATEGORIES:Community
LOCATION:SDAC\, 1710 E. River St.\, Eureka\, KS\, United States
X-APPLE-STRUCTURED-LOCATION;VALUE=URI;X-ADDRESS=1710 E. River St.\, Eureka\
 , KS\, United States;X-APPLE-RADIUS=100;X-TITLE=SDAC:geo:0,0
END:VEVENT
BEGIN:VTIMEZONE
TZID:America/Chicago
X-LIC-LOCATION:America/Chicago
BEGIN:STANDARD
DTSTART:20241103T010000
TZOFFSETFROM:-0500
TZOFFSETTO:-0600
TZNAME:CST
END:STANDARD
END:VTIMEZONE
END:VCALENDAR