BEGIN:VCALENDAR
VERSION:2.0
PRODID:-//wp-events-plugin.com//7.2.3.1//EN
TZID:America/Chicago
X-WR-TIMEZONE:America/Chicago
BEGIN:VEVENT
UID:2116@christlutheraneureka.org
DTSTART;TZID=America/Chicago:20250828T103000
DTEND;TZID=America/Chicago:20250828T103000
DTSTAMP:20250805T165917Z
URL:https://christlutheraneureka.org/events/ministerial-alliance-meeting-1
 0/
SUMMARY:Ministerial Alliance Meeting
DESCRIPTION:
CATEGORIES:Meetings
LOCATION:CCC\, 117 E 3rd St\, Eureka\, KS\, 67045\, United States
X-APPLE-STRUCTURED-LOCATION;VALUE=URI;X-ADDRESS=117 E 3rd St\, Eureka\, KS\
 , 67045\, United States;X-APPLE-RADIUS=100;X-TITLE=CCC:geo:0,0
END:VEVENT
BEGIN:VTIMEZONE
TZID:America/Chicago
X-LIC-LOCATION:America/Chicago
BEGIN:DAYLIGHT
DTSTART:20250309T030000
TZOFFSETFROM:-0600
TZOFFSETTO:-0500
TZNAME:CDT
END:DAYLIGHT
END:VTIMEZONE
END:VCALENDAR