BEGIN:VCALENDAR
VERSION:2.0
PRODID:-//wp-events-plugin.com//7.2.3.1//EN
TZID:America/Chicago
X-WR-TIMEZONE:America/Chicago
BEGIN:VEVENT
UID:2039@christlutheraneureka.org
DTSTART;TZID=America/Chicago:20250213T103000
DTEND;TZID=America/Chicago:20250213T103000
DTSTAMP:20250201T043556Z
URL:https://christlutheraneureka.org/events/ministerial-alliance-meeting-9
 /
SUMMARY:Ministerial Alliance Meeting
DESCRIPTION:
CATEGORIES:Meetings
LOCATION:CCC\, 117 E 3rd St\, Eureka\, KS\, 67045\, United States
X-APPLE-STRUCTURED-LOCATION;VALUE=URI;X-ADDRESS=117 E 3rd St\, Eureka\, KS\
 , 67045\, United States;X-APPLE-RADIUS=100;X-TITLE=CCC:geo:0,0
END:VEVENT
BEGIN:VTIMEZONE
TZID:America/Chicago
X-LIC-LOCATION:America/Chicago
BEGIN:STANDARD
DTSTART:20241103T010000
TZOFFSETFROM:-0500
TZOFFSETTO:-0600
TZNAME:CST
END:STANDARD
END:VTIMEZONE
END:VCALENDAR