BEGIN:VCALENDAR
VERSION:2.0
PRODID:-//wp-events-plugin.com//7.2.3.1//EN
TZID:America/Chicago
X-WR-TIMEZONE:America/Chicago
BEGIN:VEVENT
UID:72@christlutheraneureka.org
DTSTART;TZID=America/Chicago:20280406T140000
DTEND;TZID=America/Chicago:20280406T150000
DTSTAMP:20230207T233712Z
URL:https://christlutheraneureka.org/events/welca-2028-04-06/
SUMMARY:WELCA
DESCRIPTION:Monthly meeting of the Women of the ELCA
CATEGORIES:Meetings
LOCATION:CLC - Bell Tower Room\, 315 N Elm\, Eureka\, KS\, 67045\, United S
 tates
X-APPLE-STRUCTURED-LOCATION;VALUE=URI;X-ADDRESS=315 N Elm\, Eureka\, KS\, 6
 7045\, United States;X-APPLE-RADIUS=100;X-TITLE=CLC - Bell Tower Room:geo:
 0,0
END:VEVENT
BEGIN:VTIMEZONE
TZID:America/Chicago
X-LIC-LOCATION:America/Chicago
BEGIN:DAYLIGHT
DTSTART:20280312T030000
TZOFFSETFROM:-0600
TZOFFSETTO:-0500
TZNAME:CDT
END:DAYLIGHT
END:VTIMEZONE
END:VCALENDAR